BEGIN:VCALENDAR
VERSION:2.0
PRODID:-//Golf Club Le Primule - ECPv6.8.3//NONSGML v1.0//EN
CALSCALE:GREGORIAN
METHOD:PUBLISH
X-WR-CALNAME:Golf Club Le Primule
X-ORIGINAL-URL:https://golfleprimule.com
X-WR-CALDESC:Eventi per Golf Club Le Primule
REFRESH-INTERVAL;VALUE=DURATION:PT1H
X-Robots-Tag:noindex
X-PUBLISHED-TTL:PT1H
BEGIN:VTIMEZONE
TZID:UTC
BEGIN:STANDARD
TZOFFSETFROM:+0000
TZOFFSETTO:+0000
TZNAME:UTC
DTSTART:20240101T000000
END:STANDARD
END:VTIMEZONE
BEGIN:VEVENT
DTSTART;VALUE=DATE:20250518
DTEND;VALUE=DATE:20250519
DTSTAMP:20260419T183819
CREATED:20250512T122533Z
LAST-MODIFIED:20250512T122533Z
UID:24154-1747526400-1747612799@golfleprimule.com
SUMMARY:JOLLY SPORT
DESCRIPTION:🏌‍♂ JOLLY SPORT – Domenica 18 Maggio 🏌‍♀\nVi aspettiamo per una nuova sfida sul green al Golf Le Primule 💪 \n⛳ 18 buche Stableford 📊 2 Categorie (0/36 – 37/54)\nI limiti di categoria potranno variare in base agli HCP degli iscritti \n🎯 Premi:\n• 1° Lordo • 1°\, 2° e 3° Netto di Categoria\n• 1° Senior e 1ª Lady• 1° Junior e 1° Supersenior\n• Driving Contest • Nearest to the Pin Uomo e Donna \n📅 Iscrizioni entro sabato 17 maggio\n💳 Soci €20 | Gara + Green Fee €50 \n📞 Info e prenotazioni:\n328 716.10.28 | 011 983.02.24\n✉ info@golfleprimule.com\n🌍 www.golfleprimule.com \n#GolfLePrimule #JollySport2025 #GaraDiGolf #Stableford #GolfItalia #GolfEvent #GreenCommunity #GolfPerTutti
URL:https://golfleprimule.com/gara/jolly-sport/
LOCATION:Golf Le Primule-\, Strada Provinciale 90 per Rondissone\, Mazzè\, (TO)\, 10035\, Italy
CATEGORIES:Gare
ATTACH;FMTTYPE=image/jpeg:https://golfleprimule.com/wp-content/uploads/2025/05/social-primule-2025_Tavola-disegno-1-copia-87.jpg
END:VEVENT
BEGIN:VEVENT
DTSTART;VALUE=DATE:20250501
DTEND;VALUE=DATE:20250502
DTSTAMP:20260419T183819
CREATED:20250428T075320Z
LAST-MODIFIED:20250428T075320Z
UID:24132-1746057600-1746143999@golfleprimule.com
SUMMARY:Gara dei Lavoratori
DESCRIPTION:🏌‍♂ Giovedì 1° Maggio – Gara dei Lavoratori ⛳\nFesteggia la Festa dei Lavoratori con una sfida sul green al Golf Club Le Primule! Una giornata di sport\, relax e premi con una 18 buche Stableford 2 categorie🏌 \n🏆 Premi in palio per:\n• 1° Lordo\n• 1° e 2° Netto per categoria\n• 1° Senior e 1ª Lady \n📅 Iscrizioni entro martedì 29 aprile\n💰 Costo gara: Soci €20 | Gara + Green Fee €50 \n📞 Info e iscrizioni: 📲 328 716 10 28 | ☎ 011 983 02 24\n📧 info@golfleprimule.com🌐www.golfleprimule.com \n#GolfLePrimule #GaraDeiLavoratori #1MaggioSulGreen #GolfExperience #GolfLife2025 #FestaDeiLavoratori #PrimuleInGioco
URL:https://golfleprimule.com/gara/gara-dei-lavoratori/
LOCATION:Golf Le Primule-\, Strada Provinciale 90 per Rondissone\, Mazzè\, (TO)\, 10035\, Italy
CATEGORIES:Gare
ATTACH;FMTTYPE=image/jpeg:https://golfleprimule.com/wp-content/uploads/2025/04/Immagine-WhatsApp-2025-04-24-ore-11.28.52_1250f6b5.jpg
END:VEVENT
BEGIN:VEVENT
DTSTART;VALUE=DATE:20250421
DTEND;VALUE=DATE:20250422
DTSTAMP:20260419T183819
CREATED:20250411T133130Z
LAST-MODIFIED:20250411T133130Z
UID:24125-1745193600-1745279999@golfleprimule.com
SUMMARY:Louisiana di Pasquetta sponsored by Cioccolateria Bodrato
DESCRIPTION:Louisiana di Pasquetta sponsored by Cioccolateria Bodrato – Lunedì 21 Aprile \nScendi in campo per una divertente Louisiana a coppie e goditi una giornata all’insegna del gioco\, della convivialità e… di qualche dolce sorpresa! \n\n\n Premi in palio per:\n 1ª Coppia Lordo  1ª e 2ª Coppia Netto\n 1ª Coppia Junior  1ª Coppia Mista\n\n\n Tavolette di cioccolato per tutti i partecipanti\n A seguire momento break per festeggiare insieme\n\n\n Prenotazioni e iscrizioni entro giovedì 17 aprile\n Costo della giornata: Soci: 45€ | Esterni: 50€\n\n\n Per info e iscrizioni:  328 716 10 28 |  011 983 02 24\n info@golfleprimule.com
URL:https://golfleprimule.com/gara/louisiana-di-pasquetta-sponsored-by-cioccolateria-bodrato/
LOCATION:Golf Le Primule-\, Strada Provinciale 90 per Rondissone\, Mazzè\, (TO)\, 10035\, Italy
CATEGORIES:Gare
ATTACH;FMTTYPE=image/jpeg:https://golfleprimule.com/wp-content/uploads/2025/04/social-primule-2025_Tavola-disegno-1-copia-79.jpg
END:VEVENT
BEGIN:VEVENT
DTSTART;VALUE=DATE:20250413
DTEND;VALUE=DATE:20250414
DTSTAMP:20260419T183819
CREATED:20250411T133400Z
LAST-MODIFIED:20250411T133400Z
UID:24128-1744502400-1744588799@golfleprimule.com
SUMMARY:🏌‍♂ Trofeo DISMO – Domenica 13 Aprile ⛳
DESCRIPTION:🏌‍♂ Trofeo DISMO – Domenica 13 Aprile ⛳\nPreparati a una nuova sfida sul green del Golf Club Le Primule!\n18 buche Stableford 🏆 2 categorie (0/36 – 37/54) \n🏆 In palio premi per:\n➡ 1° Lordo\n➡ 1° e 2° Netto per categoria\n➡ 1° Senior e 1ª Lady \n📅 Iscrizioni aperte fino a sabato 12 aprile!\n💰 Costo gara: Soci: 20€ | Gara + Green Fee: 50€ \n📞 Per info e iscrizioni:\n📲 328 716 10 28 | ☎ 011 983 02 24\n📧 info@golfleprimule.com \n 
URL:https://golfleprimule.com/gara/%f0%9f%8f%8c%e2%99%82-trofeo-dismo-domenica-13-aprile-%e2%9b%b3/
LOCATION:Golf Le Primule-\, Strada Provinciale 90 per Rondissone\, Mazzè\, (TO)\, 10035\, Italy
CATEGORIES:Gare
ATTACH;FMTTYPE=image/jpeg:https://golfleprimule.com/wp-content/uploads/2025/04/Immagine-WhatsApp-2025-04-04-ore-14.02.31_c46fb965.jpg
END:VEVENT
BEGIN:VEVENT
DTSTART;VALUE=DATE:20250406
DTEND;VALUE=DATE:20250407
DTSTAMP:20260419T183819
CREATED:20250331T102932Z
LAST-MODIFIED:20250331T102932Z
UID:24121-1743897600-1743983999@golfleprimule.com
SUMMARY:NIMS Trophy 2025
DESCRIPTION:☕⛳ NIMS Trophy 2025 – Domenica 6 Aprile 🏌‍♂✨\n📍 Ti aspettiamo per un’altra grande sfida sul green…con una gara 18 buche Stableford! \n🏆 In palio premi per:\n➡ 1° Lordo\n➡ 1° e 2° Netto di categoria\n➡ 1° Senior e 1ª Lady \n📅 Iscrizioni entro sabato 5 aprile\n💰 Costo gara: Soci 20€ | Gara + Green Fee 50€ \n📞 Info & iscrizioni:📲328 716.10.28 ☎ 011 983.02.24\n🌐www.golfleprimule.com 📧 info@golfleprimule.com \n 
URL:https://golfleprimule.com/gara/nims-trophy-2025/
LOCATION:Golf Le Primule-\, Strada Provinciale 90 per Rondissone\, Mazzè\, (TO)\, 10035\, Italy
CATEGORIES:Gare
ATTACH;FMTTYPE=image/jpeg:https://golfleprimule.com/wp-content/uploads/2025/03/social-primule-2025_Tavola-disegno-1-copia-71.jpg
END:VEVENT
BEGIN:VEVENT
DTSTART;VALUE=DATE:20250330
DTEND;VALUE=DATE:20250331
DTSTAMP:20260419T183819
CREATED:20250324T081215Z
LAST-MODIFIED:20250324T081221Z
UID:24114-1743292800-1743379199@golfleprimule.com
SUMMARY:WINE TROPHY by Occhetti
DESCRIPTION:WINE TROPHY by Occhetti – Domenica 30 Marzo \nUn mix perfetto di golf\, sfida e convivialità ti aspetta!\n\n\n Unisciti a noi per una gara 18 buche Stableford due categorie (0/36 – 37/54)\, dove golf e passione si incontrano per una giornata speciale!\n\n\n Costo gara:\n Soci: 20€ | Gara + Green Fee: 50€\n\n\n Iscrizioni aperte fino a Sabato 29 Marzo!\n\n\n Info & iscrizioni:328 716.10.28  011 983.02.24\nwww.golfleprimule.com  info@golfleprimule.com
URL:https://golfleprimule.com/gara/wine-trophy-by-occhetti/
LOCATION:Golf Le Primule-\, Strada Provinciale 90 per Rondissone\, Mazzè\, (TO)\, 10035\, Italy
CATEGORIES:Gare
ATTACH;FMTTYPE=image/jpeg:https://golfleprimule.com/wp-content/uploads/2025/03/social-primule-2025_Tavola-disegno-1-copia-66.jpg
END:VEVENT
BEGIN:VEVENT
DTSTART;VALUE=DATE:20250302
DTEND;VALUE=DATE:20250303
DTSTAMP:20260419T183819
CREATED:20250221T112846Z
LAST-MODIFIED:20250221T112846Z
UID:23849-1740873600-1740959999@golfleprimule.com
SUMMARY:Louisiana di Carnevale
DESCRIPTION:🎭⛳ Louisiana di Carnevale – Domenica 2 Marzo 🎉🏌‍♂\nSiete pronti a unire golf\, divertimento e un tocco di follia carnevalesca? 🎭✨ Vi aspettiamo per una giornata speciale con la Louisiana di Carnevale! \n🏆 Gara 9 Buche Louisiana con premi per:\n🥇 1ª coppia lordo 🥇 1ª e 2ª coppia netto\n🎭 Premio speciale per la coppia con la maschera più bella! \n💰 Costo della giornata (bevande escluse):\n👥 Soci: 30€ | Esterni: 40€\n📅 Iscrizioni entro sabato 1° marzo! \n📞 Info & iscrizioni: 📲328 716.10.28 ☎ 011 983.02.24\n🌐www.golfleprimule.com 📧 info@golfleprimule.com
URL:https://golfleprimule.com/gara/louisiana-di-carnevale/
LOCATION:Golf Le Primule-\, Strada Provinciale 90 per Rondissone\, Mazzè\, (TO)\, 10035\, Italy
CATEGORIES:Gare
ATTACH;FMTTYPE=image/jpeg:https://golfleprimule.com/wp-content/uploads/2025/02/social-primule-2025_Tavola-disegno-1-copia-61.jpg
END:VEVENT
BEGIN:VEVENT
DTSTART;VALUE=DATE:20250216
DTEND;VALUE=DATE:20250217
DTSTAMP:20260419T183819
CREATED:20250212T082651Z
LAST-MODIFIED:20250212T082651Z
UID:23823-1739664000-1739750399@golfleprimule.com
SUMMARY:WINTER CHALLENGE
DESCRIPTION:❄⛳ Preparati a vivere un’emozionante giornata al Golf Club Le Primule con la nostra gara WINTER CHALLENGE‼ \nCOSTO GARA ➡ SOCI euro 20 🏌 GARA+GREEN FEE euro 50 \nFORMULA DI GIOCO ➡⛳ 18 buche 4plm Categoria Unica \nPREMIO FINALE ➡🥇Soggiorno di 4 giorni e 3 notti in B&B e 2 Gree Fee sul percorso dell’Omega Master a Crans-Montana a Giugno 2025 🤩 \nPREMI GARA ➡🎖Premiamo la 1°\, 2° e 3° Coppia Netto + 1° Coppia Lordo \nHCP ➡ Gara Limitata a hcp 36 🏌💪 \nPARTECIPAZIONE SEMIFINALE ➡🎖 Accedono alla semifinale del 1 Marzo 2025 al GC Margara la prima Coppia Lordo e la prima coppia Netto ✨ \nPREMIAZIONE ➡🏆 Si svolgerà a fine giornata di gara \n👉 Non perdere l’occasione di metterti alla prova e vivere una giornata indimenticabile!\n📞 Info e iscrizioni 📲328 716.10.28 ☎ 011 983.02.24\n➡ www.golfleprimule.com 📧 info@golfleprimule.com
URL:https://golfleprimule.com/gara/winter-challenge/
LOCATION:Golf Le Primule-\, Strada Provinciale 90 per Rondissone\, Mazzè\, (TO)\, 10035\, Italy
CATEGORIES:Gare
ATTACH;FMTTYPE=image/jpeg:https://golfleprimule.com/wp-content/uploads/2025/02/social-primule-2025_Tavola-disegno-1-copia-59.jpg
END:VEVENT
BEGIN:VEVENT
DTSTART;VALUE=DATE:20241117
DTEND;VALUE=DATE:20241118
DTSTAMP:20260419T183819
CREATED:20241111T110302Z
LAST-MODIFIED:20241111T110302Z
UID:23712-1731801600-1731887999@golfleprimule.com
SUMMARY:GARA DEL VINO E DELLA SALSICCIA
DESCRIPTION:9 Buche Stableford – Domenica 17 Novembre \nUnisciti a noi per una giornata di golf e divertimento\n\n\n Premi in palio per 1° Lordo\, 1° e 2° Netto\, 1° Lady e 1° Astemi!   Ristoro speciale alla buca 5 con salsiccia alla griglia e vino offerto dal nostro socio Russo Savino\n\n\n Iscrizioni entro Sabato 16 Novembre  Costo gara: 30€\n\n\nPrenota la tua partenza! 328 716.10.28  011 983.02.24\n www.golfleprimule.com  info@golfleprimule.com
URL:https://golfleprimule.com/gara/gara-del-vino-e-della-salsiccia/
LOCATION:Golf Le Primule-\, Strada Provinciale 90 per Rondissone\, Mazzè\, (TO)\, 10035\, Italy
CATEGORIES:Gare
ATTACH;FMTTYPE=image/jpeg:https://golfleprimule.com/wp-content/uploads/2024/11/Immagine-WhatsApp-2024-11-08-ore-12.05.50_610538c8.jpg
END:VEVENT
BEGIN:VEVENT
DTSTART;VALUE=DATE:20241116
DTEND;VALUE=DATE:20241117
DTSTAMP:20260419T183819
CREATED:20241107T105933Z
LAST-MODIFIED:20241107T105933Z
UID:23709-1731715200-1731801599@golfleprimule.com
SUMMARY:CASTAGNATA
DESCRIPTION:🎉 CASTAGNATA AL CAMPO! 🎉 \nSabato 16 Novembre\, vivi una giornata speciale sul green! 🍂🌰 Vieni a gustare le castagne in buona compagnia e scopri il nostro campo GRATUITAMENTE!\nUn’opportunità unica per provare il golf in un’atmosfera rilassata e divertente🏌 \n📅 Prenotazione del tee time obbligatoria! Non perdere il tuo posto sul campo! ⛳\n📲328 716.10.28 ☎ 011 983.02.24\n➡ www.golfleprimule.com 📧 info@golfleprimule.com
URL:https://golfleprimule.com/gara/castagnata/
LOCATION:Golf Le Primule-\, Strada Provinciale 90 per Rondissone\, Mazzè\, (TO)\, 10035\, Italy
ATTACH;FMTTYPE=image/jpeg:https://golfleprimule.com/wp-content/uploads/2024/11/Immagine-WhatsApp-2024-11-07-ore-11.23.56_3e07bcae.jpg
END:VEVENT
BEGIN:VEVENT
DTSTART;VALUE=DATE:20241110
DTEND;VALUE=DATE:20241111
DTSTAMP:20260419T183819
CREATED:20241104T080437Z
LAST-MODIFIED:20241104T080502Z
UID:23705-1731196800-1731283199@golfleprimule.com
SUMMARY:3° MEMORIAL Valeria Federighi
DESCRIPTION:Domenica 10 Novembre – 3° MEMORIAL Valeria Federighi\nSiamo lieti di invitarvi a partecipare alla terza edizione del Memorial Valeria Federighi\, un’occasione dedicata al ricordo e alla condivisione\n\n\n Dettagli della gara\n9 buche Stableford\nPremi: 1° Lordo\, 1°\, 2°\, 3° Netto\, 1° Senior\, 1° Junior\n\n\nDopo la gara\, la Famiglia Federighi offrirà un buffet per tutti i partecipanti\n\n\n Iscrizioni entro Sabato 9 Novembre\n\n\nPrenota la tua partenza! 328 716.10.28  011 983.02.24\n www.golfleprimule.com  info@golfleprimule.com
URL:https://golfleprimule.com/gara/3-memorial-valeria-federighi/
LOCATION:(TO)
CATEGORIES:Gare
ATTACH;FMTTYPE=image/jpeg:https://golfleprimule.com/wp-content/uploads/2024/11/social-le-primule2_Tavola-disegno-1-copia-35.jpg
END:VEVENT
BEGIN:VEVENT
DTSTART;VALUE=DATE:20241103
DTEND;VALUE=DATE:20241104
DTSTAMP:20260419T183819
CREATED:20241028T105939Z
LAST-MODIFIED:20241028T134146Z
UID:23674-1730592000-1730678399@golfleprimule.com
SUMMARY:CAFFÈ ALBERTO TROPHY 2024
DESCRIPTION:🏌‍♂ CAFFÈ ALBERTO TROPHY 2024 🏆 \nNon perdere la FINALE del Campionato Valtur‼\nUn’occasione imperdibile per mettersi alla prova su 18 buche Stableford⛳ \nPremi in palio:\n🎁 Buono €400 per Valtur Marsa Alam Pickalbatros Portofino\n🎁 Buono 2×1 presso Nicolaus Club El Fatimi Mahdia\n🎁 Buono sconto Valtur Cervinia o Cristallo Ski Resort \n📅 Iscrizioni aperte fino a sabato 2 novembre\nPrenota la tua partenza! 📲328 716.10.28 ☎ 011 983.02.24\n➡ www.golfleprimule.com 📧 info@golfleprimule.com \n 
URL:https://golfleprimule.com/gara/caffe-alberto-trophy-2024/
LOCATION:Golf Le Primule-\, Strada Provinciale 90 per Rondissone\, Mazzè\, (TO)\, 10035\, Italy
CATEGORIES:Gare
ATTACH;FMTTYPE=image/jpeg:https://golfleprimule.com/wp-content/uploads/2024/10/social-le-primule2_Tavola-disegno-1-copia-34.jpg
END:VEVENT
BEGIN:VEVENT
DTSTART;VALUE=DATE:20241013
DTEND;VALUE=DATE:20241014
DTSTAMP:20260419T183819
CREATED:20241004T102015Z
LAST-MODIFIED:20241007T105052Z
UID:23645-1728777600-1728863999@golfleprimule.com
SUMMARY:GARA ACAT E I&C
DESCRIPTION:🏌‍♂ Pronto per una sfida emozionante? \nMettiti alla prova ➡ GARA ACAT E I&C\n📅 Domenica 13 ottobre\n⛳ 9 buche – Formula Louisiana a coppie\n🏆 Premi speciali per le migliori coppie e un’atmosfera indimenticabile! \nA seguire catering preparato e gestito da ristorante @ristorante_santa_marta\nofferto dallo sponsor per i giocatori 😋 Per gli accompagnatori il costo è di € 25 \nPrenota ora la tua partenza entro GIOVEDÌ 10 ottobre! 📲328 716.10.28 ☎ 011 983.02.24
URL:https://golfleprimule.com/gara/gara-acat-e-ic/
LOCATION:Golf Le Primule-\, Strada Provinciale 90 per Rondissone\, Mazzè\, (TO)\, 10035\, Italy
CATEGORIES:Gare
ATTACH;FMTTYPE=image/jpeg:https://golfleprimule.com/wp-content/uploads/2024/10/social-le-primule_Tavola-disegno-1-copia-53.jpg
END:VEVENT
BEGIN:VEVENT
DTSTART;VALUE=DATE:20241006
DTEND;VALUE=DATE:20241007
DTSTAMP:20260419T183819
CREATED:20240923T081428Z
LAST-MODIFIED:20241003T084734Z
UID:22333-1728172800-1728259199@golfleprimule.com
SUMMARY:TSGA 2024
DESCRIPTION:🏌‍♂ TSGA 2024! 🏆⛳\nSei pronto a metterti alla prova? Partecipa alla nostra gara 9 buche\, dove ogni colpo conta e la strategia è tutto‼💪 \n📅 Domenica 6 OTTOBRE\n✅ Momento Break\n➡ Iscrizioni entro sabato 5 OTTOBRE‼
URL:https://golfleprimule.com/gara/tsga-2024/
LOCATION:Golf Le Primule-\, Strada Provinciale 90 per Rondissone\, Mazzè\, (TO)\, 10035\, Italy
CATEGORIES:Gare
ATTACH;FMTTYPE=image/jpeg:https://golfleprimule.com/wp-content/uploads/2024/09/social-le-primule_Tavola-disegno-1-copia-45.jpg
END:VEVENT
END:VCALENDAR