BEGIN:VCALENDAR
VERSION:2.0
PRODID:-//Golf Club Le Primule - ECPv6.8.3//NONSGML v1.0//EN
CALSCALE:GREGORIAN
METHOD:PUBLISH
X-ORIGINAL-URL:https://golfleprimule.com
X-WR-CALDESC:Eventi per Golf Club Le Primule
REFRESH-INTERVAL;VALUE=DURATION:PT1H
X-Robots-Tag:noindex
X-PUBLISHED-TTL:PT1H
BEGIN:VTIMEZONE
TZID:UTC
BEGIN:STANDARD
TZOFFSETFROM:+0000
TZOFFSETTO:+0000
TZNAME:UTC
DTSTART:20240101T000000
END:STANDARD
END:VTIMEZONE
BEGIN:VEVENT
DTSTART;VALUE=DATE:20241013
DTEND;VALUE=DATE:20241014
DTSTAMP:20260419T201618
CREATED:20241004T102015Z
LAST-MODIFIED:20241007T105052Z
UID:23645-1728777600-1728863999@golfleprimule.com
SUMMARY:GARA ACAT E I&C
DESCRIPTION:🏌‍♂ Pronto per una sfida emozionante? \nMettiti alla prova ➡ GARA ACAT E I&C\n📅 Domenica 13 ottobre\n⛳ 9 buche – Formula Louisiana a coppie\n🏆 Premi speciali per le migliori coppie e un’atmosfera indimenticabile! \nA seguire catering preparato e gestito da ristorante @ristorante_santa_marta\nofferto dallo sponsor per i giocatori 😋 Per gli accompagnatori il costo è di € 25 \nPrenota ora la tua partenza entro GIOVEDÌ 10 ottobre! 📲328 716.10.28 ☎ 011 983.02.24
URL:https://golfleprimule.com/gara/gara-acat-e-ic/
LOCATION:Golf Le Primule-\, Strada Provinciale 90 per Rondissone\, Mazzè\, (TO)\, 10035\, Italy
CATEGORIES:Gare
ATTACH;FMTTYPE=image/jpeg:https://golfleprimule.com/wp-content/uploads/2024/10/social-le-primule_Tavola-disegno-1-copia-53.jpg
END:VEVENT
BEGIN:VEVENT
DTSTART;VALUE=DATE:20241006
DTEND;VALUE=DATE:20241007
DTSTAMP:20260419T201618
CREATED:20240923T081428Z
LAST-MODIFIED:20241003T084734Z
UID:22333-1728172800-1728259199@golfleprimule.com
SUMMARY:TSGA 2024
DESCRIPTION:🏌‍♂ TSGA 2024! 🏆⛳\nSei pronto a metterti alla prova? Partecipa alla nostra gara 9 buche\, dove ogni colpo conta e la strategia è tutto‼💪 \n📅 Domenica 6 OTTOBRE\n✅ Momento Break\n➡ Iscrizioni entro sabato 5 OTTOBRE‼
URL:https://golfleprimule.com/gara/tsga-2024/
LOCATION:Golf Le Primule-\, Strada Provinciale 90 per Rondissone\, Mazzè\, (TO)\, 10035\, Italy
CATEGORIES:Gare
ATTACH;FMTTYPE=image/jpeg:https://golfleprimule.com/wp-content/uploads/2024/09/social-le-primule_Tavola-disegno-1-copia-45.jpg
END:VEVENT
END:VCALENDAR